BEGIN:VCALENDAR
VERSION:2.0
PRODID:-//Kommunalfabrik Ratsinformationssystem https://ris-goldene-aue.komfa.de/
X-WR-TIMEZONE:Europe/Berlin
X-WR-CALNAME:Sitzungskalender
X-WR-CALDESC:Ratsinformationssystem "Goldene Aue"
BEGIN:VEVENT
UID:CE23CE5A730D299BEE141A087CDFC37A
ORGANIZER;CN="":MAILTO:
LOCATION:in Berga im Sitzungssaal der Gemeinde Berga, Schenkplatz 5
SUMMARY:Gemeinderatssitzung, Gemeinde Berga
DESCRIPTION:Gemeinderatssitzung, Gemeinde Berga, Gemeinderat, in Berga, im Sitzungssaal der Gemeinde Berga, Schenkplatz 5
CLASS:CONFIDENTIAL
DTSTART:20260505T163000Z
DTEND:20260505T200000Z
DTSTAMP:20260424T121407Z
END:VEVENT
END:VCALENDAR